BEGIN:VCALENDAR
VERSION:2.0
PRODID:-//Marquette County Wisconsin Community Events - ECPv6.11.2//NONSGML v1.0//EN
CALSCALE:GREGORIAN
METHOD:PUBLISH
X-ORIGINAL-URL:https://communityevents.co.marquette.wi.us
X-WR-CALDESC:Events for Marquette County Wisconsin Community Events
REFRESH-INTERVAL;VALUE=DURATION:PT1H
X-Robots-Tag:noindex
X-PUBLISHED-TTL:PT1H
BEGIN:VTIMEZONE
TZID:Asia/Krasnoyarsk
BEGIN:STANDARD
TZOFFSETFROM:+0700
TZOFFSETTO:+0700
TZNAME:+07
DTSTART:20260101T000000
END:STANDARD
END:VTIMEZONE
BEGIN:VEVENT
DTSTART;TZID=Asia/Krasnoyarsk:20260426T070000
DTEND;TZID=Asia/Krasnoyarsk:20260426T110000
DTSTAMP:20260422T085912
CREATED:20260420T210859Z
LAST-MODIFIED:20260420T210859Z
UID:10000456-1777186800-1777201200@communityevents.co.marquette.wi.us
SUMMARY:Endeavor-Moundville Fire Department Pancake Breakfast
DESCRIPTION:Come support the Endeavor-Moundville Fire Department with an excellent breakfast including all-you-can-eat scrambled eggs\, sausage\, and pancakes. Adults – $12\, Kids 5 – 18 – $9\, Kids 4 and under are FREE!
URL:https://communityevents.co.marquette.wi.us/event/endeavor-moundville-fire-department-pancake-breakfast/
LOCATION:Endeavor-Moundville Fire Department\, 631 South Limits Rd\, Endeavor\, 53930
CATEGORIES:Alcohol Free Family Friendly Food Available Fundraiser
ATTACH;FMTTYPE=image/jpeg:https://communityevents.co.marquette.wi.us/wp-content/uploads/2026/04/Pancake-Breakfast-ee89e98218c8dda8989362d788e09917-1.jpg
ORGANIZER;CN="Sarah Jensen":MAILTO:sjensen@marquettecountywi.gov
END:VEVENT
END:VCALENDAR