BEGIN:VCALENDAR
VERSION:2.0
PRODID:-//Marquette County Wisconsin Community Events - ECPv6.11.2//NONSGML v1.0//EN
CALSCALE:GREGORIAN
METHOD:PUBLISH
X-ORIGINAL-URL:https://communityevents.co.marquette.wi.us
X-WR-CALDESC:Events for Marquette County Wisconsin Community Events
REFRESH-INTERVAL;VALUE=DURATION:PT1H
X-Robots-Tag:noindex
X-PUBLISHED-TTL:PT1H
BEGIN:VTIMEZONE
TZID:Asia/Krasnoyarsk
BEGIN:STANDARD
TZOFFSETFROM:+0700
TZOFFSETTO:+0700
TZNAME:+07
DTSTART:20260101T000000
END:STANDARD
END:VTIMEZONE
BEGIN:VEVENT
DTSTART;VALUE=DATE:20260501
DTEND;VALUE=DATE:20260504
DTSTAMP:20260422T171811
CREATED:20260415T214618Z
LAST-MODIFIED:20260415T214618Z
UID:10000453-1777593600-1777852799@communityevents.co.marquette.wi.us
SUMMARY:Montello Fish-n-Fun
DESCRIPTION:Montello’s Fish-n-Fun festival is back on May 1\, 2\, and 3\, 2026! Enjoy live music\, petting zoo\, auto show\, chicken BBQ\, and so much more!!! A great time for the whole family. Be sure to buy a Fish-n-Fun button at participating businesses around town to receive specials\, enter drawings\, watch live music\, and help support the FREE fun that is available during Fish-n-Fun weekend.
URL:https://communityevents.co.marquette.wi.us/event/montello-fish-n-fun/
LOCATION:Montello City Park\, City Wide\, Montello\, 53949
CATEGORIES:ADA Accessible Arts and Culture Classes/Education Family Friendly Festival/Celebration Food Available No Registration Required
ATTACH;FMTTYPE=image/jpeg:https://communityevents.co.marquette.wi.us/wp-content/uploads/2026/04/daa1f023-c71f-43ae-8ac0-7875b0f79f99-56f7651a2f36dc14b41d65b39e3a17f2-1.jpg
ORGANIZER;CN="Sarah Jensen":MAILTO:sjensen@marquettecountywi.gov
END:VEVENT
BEGIN:VEVENT
DTSTART;VALUE=DATE:20260715
DTEND;VALUE=DATE:20260720
DTSTAMP:20260422T171811
CREATED:20260420T210856Z
LAST-MODIFIED:20260420T210856Z
UID:10000457-1784073600-1784505599@communityevents.co.marquette.wi.us
SUMMARY:Marquette County Fair
DESCRIPTION:This year’s fair theme is Country Days at the Fair! Come out and see all the fair entries and enjoy some good\, old-fashioned family fun at the Marquette County Fair. Enjoy viewing the animals\, the Kid’s Show\, music\, food\, and more! See the website for the full line up.
URL:https://communityevents.co.marquette.wi.us/event/marquette-county-fair-2/
LOCATION:Marquette County Fair\, Fairground St\, Westfield\, 53964
CATEGORIES:ADA Accessible Arts and Culture Classes/Education Family Friendly Festival/Celebration Food Available No Registration Required
ATTACH;FMTTYPE=image/jpeg:https://communityevents.co.marquette.wi.us/wp-content/uploads/2026/04/County-fair-2026-55ad4e021c3d3f58a276b2c2da435eba-1.jpg
ORGANIZER;CN="Sarah Jensen":MAILTO:sjensen@marquettecountywi.gov
END:VEVENT
END:VCALENDAR