BEGIN:VCALENDAR
VERSION:2.0
PRODID:-//Marquette County Wisconsin Community Events - ECPv6.11.2//NONSGML v1.0//EN
CALSCALE:GREGORIAN
METHOD:PUBLISH
X-ORIGINAL-URL:https://communityevents.co.marquette.wi.us
X-WR-CALDESC:Events for Marquette County Wisconsin Community Events
REFRESH-INTERVAL;VALUE=DURATION:PT1H
X-Robots-Tag:noindex
X-PUBLISHED-TTL:PT1H
BEGIN:VTIMEZONE
TZID:Asia/Krasnoyarsk
BEGIN:STANDARD
TZOFFSETFROM:+0700
TZOFFSETTO:+0700
TZNAME:+07
DTSTART:20260101T000000
END:STANDARD
END:VTIMEZONE
BEGIN:VEVENT
DTSTART;TZID=Asia/Krasnoyarsk:20260522T080000
DTEND;TZID=Asia/Krasnoyarsk:20260523T120000
DTSTAMP:20260422T011247
CREATED:20260420T153411Z
LAST-MODIFIED:20260420T153411Z
UID:10000454-1779436800-1779537600@communityevents.co.marquette.wi.us
SUMMARY:Budda-Box Fundraiser Rummage Sale
DESCRIPTION:Budda-Box\, Inc’s mission is to assist with needs of persons who have been diagnosed with cancer and are residents of Marquette County. Please join in this support by either donating your gently used items by dropping off to the Marquette County Fairgrounds on Wed\, May 20 from 2pm to 6pm or scheduling a pickup if unavailable between those times (see website below). You should also come out to purchase these items over Memorial Day on Friday\, May 22 from 8am to 6pm and Sat\, May 23 from 8am to noon.
URL:https://communityevents.co.marquette.wi.us/event/budda-box-fundraiser-rummage-sale/
LOCATION:Marquette County Fairgrounds\, Fairgrounds\, Westfield\, WI\, 53964\, United States
CATEGORIES:ADA Accessible Alcohol Free Family Friendly Fundraiser
ORGANIZER;CN="Sarah Jensen":MAILTO:sjensen@marquettecountywi.gov
END:VEVENT
END:VCALENDAR