BEGIN:VCALENDAR
VERSION:2.0
PRODID:-//Marquette County Wisconsin Community Events - ECPv6.11.2//NONSGML v1.0//EN
CALSCALE:GREGORIAN
METHOD:PUBLISH
X-WR-CALNAME:Marquette County Wisconsin Community Events
X-ORIGINAL-URL:https://communityevents.co.marquette.wi.us
X-WR-CALDESC:Events for Marquette County Wisconsin Community Events
REFRESH-INTERVAL;VALUE=DURATION:PT1H
X-Robots-Tag:noindex
X-PUBLISHED-TTL:PT1H
BEGIN:VTIMEZONE
TZID:Asia/Krasnoyarsk
BEGIN:STANDARD
TZOFFSETFROM:+0700
TZOFFSETTO:+0700
TZNAME:+07
DTSTART:20260101T000000
END:STANDARD
END:VTIMEZONE
BEGIN:VEVENT
DTSTART;TZID=Asia/Krasnoyarsk:20260421T190000
DTEND;TZID=Asia/Krasnoyarsk:20260421T220000
DTSTAMP:20260421T014819
CREATED:20250507T164031Z
LAST-MODIFIED:20250507T173819Z
UID:10000035-1776798000-1776808800@communityevents.co.marquette.wi.us
SUMMARY:County Board
DESCRIPTION:
URL:https://communityevents.co.marquette.wi.us/event/county-board/2026-04-21/
LOCATION:WI
ATTACH;FMTTYPE=image/png:https://communityevents.co.marquette.wi.us/wp-content/uploads/2025/05/marquettelogo-e1746639474438.png
END:VEVENT
END:VCALENDAR